BEGIN:VCALENDAR
VERSION:2.0
PRODID:-//bel &eacute;tage - ECPv6.15.20//NONSGML v1.0//EN
CALSCALE:GREGORIAN
METHOD:PUBLISH
X-ORIGINAL-URL:https://bel-etage.com
X-WR-CALDESC:Veranstaltungen für bel &eacute;tage
REFRESH-INTERVAL;VALUE=DURATION:PT1H
X-Robots-Tag:noindex
X-PUBLISHED-TTL:PT1H
BEGIN:VTIMEZONE
TZID:UTC
BEGIN:STANDARD
TZOFFSETFROM:+0000
TZOFFSETTO:+0000
TZNAME:UTC
DTSTART:20240101T000000
END:STANDARD
END:VTIMEZONE
BEGIN:VEVENT
DTSTART;TZID=UTC:20250902T180000
DTEND;TZID=UTC:20250902T190000
DTSTAMP:20260422T140824
CREATED:20250704T085128Z
LAST-MODIFIED:20250918T113635Z
UID:1215-1756836000-1756839600@bel-etage.com
SUMMARY:Neuer Tango-Anfängerkurs ab Dienstag\, 02.09. um 18 Uhr
DESCRIPTION:Du möchtest Tango Argentino von Grund auf lernen? Dann ist jetzt der perfekte Moment: Am Dienstag\, den 2. September um 18 Uhr startet unser neuer Anfängerkurs für Paare in der bel étage Bremen.\n\nIn entspannter Atmosphäre zeigen wir euch die Grundlagen dieses faszinierenden Tanzes – mit Gefühl\, Musik und ganz viel Freude an der Bewegung.\n\nJetzt gemeinsam einsteigen und den ersten Schritt aufs Parkett wagen.
URL:https://bel-etage.com/veranstaltung/neuer-tango-anfaengerkurs-ab-dienstag-02-09-um-18-uhr/
LOCATION:bel étage\, Stresemannstraße 54 (Hinterhof)\, Bremen\, 28207\, Germany
CATEGORIES:Milonga
ATTACH;FMTTYPE=image/jpeg:https://bel-etage.com/wp-content/uploads/2025/07/argentinian-tango-2079964_1280.jpg
ORGANIZER;CN="bel %C3%A9tage":MAILTO:kontakt@bel-etage.com
END:VEVENT
BEGIN:VEVENT
DTSTART;TZID=UTC:20250905T200000
DTEND;TZID=UTC:20250905T235900
DTSTAMP:20260422T140824
CREATED:20250704T130525Z
LAST-MODIFIED:20250918T113111Z
UID:1329-1757102400-1757116740@bel-etage.com
SUMMARY:Milonga - Tangoabend der Extraklasse!
DESCRIPTION:Freut euch auf heiße Rhythmen von DJ Nick und ein warmes Willkommen von Gastgeber Rodrigo. Die Tanzfläche wartet auf euch!
URL:https://bel-etage.com/veranstaltung/milonga-tangoabend-der-extraklasse/
CATEGORIES:Milonga
ATTACH;FMTTYPE=image/jpeg:https://bel-etage.com/wp-content/uploads/2025/06/Foto-shooting-7.9.-1-von-1-71-scaled.jpg
END:VEVENT
BEGIN:VEVENT
DTSTART;TZID=UTC:20250912T200000
DTEND;TZID=UTC:20250912T200000
DTSTAMP:20260422T140824
CREATED:20250704T130620Z
LAST-MODIFIED:20250911T140321Z
UID:1332-1757707200-1757707200@bel-etage.com
SUMMARY:Milonga - Lust auf Tango?
DESCRIPTION:Dann kommt zur Milonga mit den musikalischen Perlen von DJ El Chiquito und einer charmanten Begleitung durch Gastgeber Herr Rodrigo Arze. Ein Abend\, der das Herz berührt.
URL:https://bel-etage.com/veranstaltung/milonga-lust-auf-tango/
LOCATION:bel étage\, Stresemannstraße 54 (Hinterhof)\, Bremen\, 28207\, Germany
CATEGORIES:Milonga
ATTACH;FMTTYPE=image/jpeg:https://bel-etage.com/wp-content/uploads/2025/06/Foto-shooting-7.9.-1-von-1-71-scaled.jpg
ORGANIZER;CN="bel %C3%A9tage":MAILTO:kontakt@bel-etage.com
END:VEVENT
BEGIN:VEVENT
DTSTART;TZID=UTC:20250919T200000
DTEND;TZID=UTC:20250919T200000
DTSTAMP:20260422T140824
CREATED:20250704T130931Z
LAST-MODIFIED:20250918T074310Z
UID:1337-1758312000-1758312000@bel-etage.com
SUMMARY:Milonga - Libertango y amig@s mit Gastgebern & Dj´s Catalina y Thomas
DESCRIPTION:Ein Abend voller Stil und Leidenschaft!
URL:https://bel-etage.com/veranstaltung/milonga-libertango-bittet-zum-tanz/
LOCATION:bel étage\, Stresemannstraße 54 (Hinterhof)\, Bremen\, 28207\, Germany
CATEGORIES:Milonga
ATTACH;FMTTYPE=image/jpeg:https://bel-etage.com/wp-content/uploads/2025/07/Catalina-Toma´s-1-2.jpeg
END:VEVENT
BEGIN:VEVENT
DTSTART;TZID=UTC:20250926T200000
DTEND;TZID=UTC:20250926T235900
DTSTAMP:20260422T140824
CREATED:20250704T132121Z
LAST-MODIFIED:20250918T074647Z
UID:1355-1758916800-1758931140@bel-etage.com
SUMMARY:Milonga - Lust auf Tango
DESCRIPTION:DJ Roco sorgt für die Klangkulisse\, Gastgeberin Frau Hriba für die Atmosphäre – zusammen ergibt das eine Milonga zum Verlieben. Kommt und genießt den Abend mit uns!
URL:https://bel-etage.com/veranstaltung/es-wird-sinnlich/
LOCATION:bel étage\, Stresemannstraße 54 (Hinterhof)\, Bremen\, 28207\, Germany
CATEGORIES:Milonga
ATTACH;FMTTYPE=image/jpeg:https://bel-etage.com/wp-content/uploads/2025/06/Foto-shooting-7.9.-1-von-1-71-scaled.jpg
ORGANIZER;CN="bel %C3%A9tage":MAILTO:kontakt@bel-etage.com
END:VEVENT
BEGIN:VEVENT
DTSTART;TZID=UTC:20250928T160000
DTEND;TZID=UTC:20250928T193000
DTSTAMP:20260422T140824
CREATED:20250704T145529Z
LAST-MODIFIED:20250925T115836Z
UID:1387-1759075200-1759087800@bel-etage.com
SUMMARY:Tango trifft Genuss – Dos Orillas lädt ein
DESCRIPTION:Dos Orillas – Domingos Dulces \nDas Dos Orillas Team beschert euch wieder den „süßen“ Sonntag-Nachmittag! \nWir verwöhnen euch mit leckerem Kaffee\,  herrlichen Torten und lassen euch zu beschwingten Tangoklängen in den frühen Abend schweben. \nUnd wenn ihr euren Tango weiterentwickeln\, neue Schritte ausprobieren oder alte wiederholen möchtet: Kommt am 28. September 2025 von 14:00 bis 15:30 Uhr zur Tango-Praktika. In angenehmer Atmosphäre könnt ihr Fragen stellen\, gemeinsam lernen und euch tänzerisch entfalten – ganz gleich ob Einsteiger:in oder Fortgeschrittene:r. Lasst uns zusammen wachsen im Tango! \nLive wieder bei uns:\nFaryna / Satorre\n„Los Suplentes“ \nViva el Tango.
URL:https://bel-etage.com/veranstaltung/tango-trifft-genuss-dos-oillias-laedt-ein-2/
LOCATION:bel étage\, Stresemannstraße 54 (Hinterhof)\, Bremen\, 28207\, Germany
CATEGORIES:Milonga
ATTACH;FMTTYPE=image/jpeg:https://bel-etage.com/wp-content/uploads/2025/07/WhatsApp-Image-2025-09-09-at-13.34.40.jpeg
ORGANIZER;CN="bel %C3%A9tage":MAILTO:kontakt@bel-etage.com
END:VEVENT
END:VCALENDAR