BEGIN:VCALENDAR
VERSION:2.0
PRODID:-//bel &eacute;tage - ECPv6.15.20//NONSGML v1.0//EN
CALSCALE:GREGORIAN
METHOD:PUBLISH
X-ORIGINAL-URL:https://bel-etage.com
X-WR-CALDESC:Veranstaltungen für bel &eacute;tage
REFRESH-INTERVAL;VALUE=DURATION:PT1H
X-Robots-Tag:noindex
X-PUBLISHED-TTL:PT1H
BEGIN:VTIMEZONE
TZID:UTC
BEGIN:STANDARD
TZOFFSETFROM:+0000
TZOFFSETTO:+0000
TZNAME:UTC
DTSTART:20240101T000000
END:STANDARD
END:VTIMEZONE
BEGIN:VEVENT
DTSTART;VALUE=DATE:20250707
DTEND;VALUE=DATE:20250818
DTSTAMP:20260422T161443
CREATED:20250704T122159Z
LAST-MODIFIED:20250704T174854Z
UID:1274-1751846400-1755475199@bel-etage.com
SUMMARY:Sommerferien
DESCRIPTION:
URL:https://bel-etage.com/veranstaltung/sommerferien/
LOCATION:bel étage\, Stresemannstraße 54 (Hinterhof)\, Bremen\, 28207\, Germany
CATEGORIES:ferien
ATTACH;FMTTYPE=image/png:https://bel-etage.com/wp-content/uploads/2025/07/ferien.png
ORGANIZER;CN="bel %C3%A9tage":MAILTO:kontakt@bel-etage.com
END:VEVENT
BEGIN:VEVENT
DTSTART;TZID=UTC:20250801T200000
DTEND;TZID=UTC:20250801T235900
DTSTAMP:20260422T161443
CREATED:20250704T123142Z
LAST-MODIFIED:20250708T112826Z
UID:1289-1754078400-1754092740@bel-etage.com
SUMMARY:Milonga am 1. August in der bel étage!
DESCRIPTION:Milonga am 1. August in der bel étage! 🎧 Mit DJ Chiquito an den Decks 🤝 Gastgeber des Abends: Rodrigo Arze \nFreut euch auf eine Nacht voller Tango\, Emotionen und stilvoller Atmosphäre. Kommt vorbei – wir freuen uns auf euch! 💃🕺
URL:https://bel-etage.com/veranstaltung/milonga-special-am-1-august-in-der-bel-etage/
LOCATION:bel étage\, Stresemannstraße 54 (Hinterhof)\, Bremen\, 28207\, Germany
CATEGORIES:Milonga
ATTACH;FMTTYPE=image/jpeg:https://bel-etage.com/wp-content/uploads/2025/06/Foto-shooting-7.9.-1-von-1-71-scaled.jpg
ORGANIZER;CN="bel %C3%A9tage":MAILTO:kontakt@bel-etage.com
END:VEVENT
BEGIN:VEVENT
DTSTART;TZID=UTC:20250808T200000
DTEND;TZID=UTC:20250808T235900
DTSTAMP:20260422T161443
CREATED:20250704T124356Z
LAST-MODIFIED:20250806T075353Z
UID:1298-1754683200-1754697540@bel-etage.com
SUMMARY:Milonga - Heute Abend wird getanzt!
DESCRIPTION:Freut euch auf eine stimmungsvolle Milonga in der bel étage mit feinster Musik von DJ Peter S. und herzlicher Begleitung durch Frau Hriba. \nEin Abend voller Tango\, Begegnung und Emotion – wir freuen uns auf euch!
URL:https://bel-etage.com/veranstaltung/heute-abend-wird-getanzt/
LOCATION:bel étage\, Stresemannstraße 54 (Hinterhof)\, Bremen\, 28207\, Germany
CATEGORIES:Milonga,Party
ATTACH;FMTTYPE=image/png:https://bel-etage.com/wp-content/uploads/2025/07/grafik.png
ORGANIZER;CN="bel %C3%A9tage":MAILTO:kontakt@bel-etage.com
END:VEVENT
BEGIN:VEVENT
DTSTART;TZID=UTC:20250815T200000
DTEND;TZID=UTC:20250815T235900
DTSTAMP:20260422T161443
CREATED:20250704T125417Z
LAST-MODIFIED:20250723T111532Z
UID:1311-1755288000-1755302340@bel-etage.com
SUMMARY:Milonga - Libertango y amig@s mit Gastgebern & Dj´s Catalina y Thomas
DESCRIPTION:Erlebt eine leidenschaftliche Milonga mit DJ Thomas und Gastgeberin Catalina\, die euch mit offenen Armen empfangen. Kommt\, tanzt\, genießt – wir erwarten euch!
URL:https://bel-etage.com/veranstaltung/milonga-tango-in-seiner-schoensten-form/
LOCATION:bel étage\, Stresemannstraße 54 (Hinterhof)\, Bremen\, 28207\, Germany
CATEGORIES:Milonga
ATTACH;FMTTYPE=image/jpeg:https://bel-etage.com/wp-content/uploads/2025/07/Catalina-Toma´s-1-2.jpeg
END:VEVENT
BEGIN:VEVENT
DTSTART;TZID=UTC:20250822T200000
DTEND;TZID=UTC:20250822T235900
DTSTAMP:20260422T161443
CREATED:20250704T125738Z
LAST-MODIFIED:20250821T105812Z
UID:1318-1755892800-1755907140@bel-etage.com
SUMMARY:Milonga - Ein Abend voller Magie!
DESCRIPTION:Die Musik von DJ Roco  und die charmante Begleitung durch Gastgeberin Frau Hriba machen die Milonga in der bel étage unvergesslich. Tango verbindet – wir freuen uns auf euch!
URL:https://bel-etage.com/veranstaltung/milonga-ein-abend-voller-magie/
LOCATION:bel étage\, Stresemannstraße 54 (Hinterhof)\, Bremen\, 28207\, Germany
CATEGORIES:Milonga
ATTACH;FMTTYPE=image/jpeg:https://bel-etage.com/wp-content/uploads/2025/06/Foto-shooting-7.9.-1-von-1-71-scaled.jpg
ORGANIZER;CN="bel %C3%A9tage":MAILTO:kontakt@bel-etage.com
END:VEVENT
BEGIN:VEVENT
DTSTART;TZID=UTC:20250826T180000
DTEND;TZID=UTC:20250826T190000
DTSTAMP:20260422T161443
CREATED:20250704T084615Z
LAST-MODIFIED:20250704T123754Z
UID:1211-1756231200-1756234800@bel-etage.com
SUMMARY:Tango Schnupperstunde
DESCRIPTION:Tango zu zweit entdecken – Schnupperstunde für Paare\nLust auf Tango Argentino? In unserer Schnupperstunde exklusiv für Paare erlebt ihr die ersten Schritte dieses faszinierenden Tanzes – ganz entspannt\, ohne Vorkenntnisse. \nEin Abend\, zwei Herzen\, ein Tanz. Jetzt gemeinsam ausprobieren und den Zauber des Tango entdecken!
URL:https://bel-etage.com/veranstaltung/tango-schnupperstunde/
LOCATION:bel étage\, Stresemannstraße 54 (Hinterhof)\, Bremen\, 28207\, Germany
CATEGORIES:Milonga
ATTACH;FMTTYPE=image/jpeg:https://bel-etage.com/wp-content/uploads/2025/07/hamburg-1508616_1280.jpg
ORGANIZER;CN="bel %C3%A9tage":MAILTO:kontakt@bel-etage.com
END:VEVENT
BEGIN:VEVENT
DTSTART;TZID=UTC:20250829T200000
DTEND;TZID=UTC:20250829T235900
DTSTAMP:20260422T161443
CREATED:20250704T125905Z
LAST-MODIFIED:20250704T172812Z
UID:1321-1756497600-1756511940@bel-etage.com
SUMMARY:Milonga-Zeit!
DESCRIPTION:Taucht ein in die Welt des Tangos mit feinster Musik von DJ Roco und der herzlichen Führung von Gastgeberin Frau Hriba. Tango\, Takt und Temperament – seid willkommen!
URL:https://bel-etage.com/veranstaltung/milonga-zeit/
LOCATION:bel étage\, Stresemannstraße 54 (Hinterhof)\, Bremen\, 28207\, Germany
CATEGORIES:Milonga
ATTACH;FMTTYPE=image/jpeg:https://bel-etage.com/wp-content/uploads/2025/06/Foto-shooting-7.9.-1-von-1-71-scaled.jpg
ORGANIZER;CN="bel %C3%A9tage":MAILTO:kontakt@bel-etage.com
END:VEVENT
BEGIN:VEVENT
DTSTART;TZID=UTC:20250831T160000
DTEND;TZID=UTC:20250831T200000
DTSTAMP:20260422T161443
CREATED:20250704T145322Z
LAST-MODIFIED:20250918T112726Z
UID:1384-1756656000-1756670400@bel-etage.com
SUMMARY:Dos Orillas – Domingos dulces
DESCRIPTION:Tango\, Kaffee\, Kuchen… und Tanz!\nEin Nachmittag wie kein anderer erwartet euch mit Dos Orillas: Genießt aromatischen Kaffee\, feine Kuchen und lasst euch von der leidenschaftlichen Tangomusik verzaubern. Die Tanzfläche ist eröffnet – spürt den Rhythmus\, lasst euch von der Musik tragen\, begegnet einander und erlebt die Magie des Tangos hautnah. Tanda und Torte – wir freuen uns auf euch!\n\nUnd wenn ihr euren Tango weiterentwickeln wollt\, neue Schritte ausprobieren möchtet oder einfach entspannt tanzen wollt: Kommt am 31. August 2025 von 14:00 bis 16:00 Uhr zur Tango-Praktika. In angenehmer Atmosphäre könnt ihr Fragen stellen\, gemeinsam lernen und euch tänzerisch entfalten – ganz gleich ob Einsteiger:in oder Fortgeschrittene:r. Lasst uns zusammen wachsen im Tango!
URL:https://bel-etage.com/veranstaltung/tango-trifft-genuss-dos-oillias-laedt-ein/
LOCATION:bel étage\, Stresemannstraße 54 (Hinterhof)\, Bremen\, 28207\, Germany
CATEGORIES:Milonga
ATTACH;FMTTYPE=image/jpeg:https://bel-etage.com/wp-content/uploads/2025/07/WhatsApp-Image-2025-07-08-at-16.22.32.jpeg
ORGANIZER;CN="bel %C3%A9tage":MAILTO:kontakt@bel-etage.com
END:VEVENT
END:VCALENDAR