BEGIN:VCALENDAR
VERSION:2.0
PRODID:-//bel &eacute;tage - ECPv6.15.20//NONSGML v1.0//EN
CALSCALE:GREGORIAN
METHOD:PUBLISH
X-ORIGINAL-URL:https://bel-etage.com
X-WR-CALDESC:Veranstaltungen für bel &eacute;tage
REFRESH-INTERVAL;VALUE=DURATION:PT1H
X-Robots-Tag:noindex
X-PUBLISHED-TTL:PT1H
BEGIN:VTIMEZONE
TZID:Europe/Paris
BEGIN:DAYLIGHT
TZOFFSETFROM:+0100
TZOFFSETTO:+0200
TZNAME:CEST
DTSTART:20250330T010000
END:DAYLIGHT
BEGIN:STANDARD
TZOFFSETFROM:+0200
TZOFFSETTO:+0100
TZNAME:CET
DTSTART:20251026T010000
END:STANDARD
BEGIN:DAYLIGHT
TZOFFSETFROM:+0100
TZOFFSETTO:+0200
TZNAME:CEST
DTSTART:20260329T010000
END:DAYLIGHT
BEGIN:STANDARD
TZOFFSETFROM:+0200
TZOFFSETTO:+0100
TZNAME:CET
DTSTART:20261025T010000
END:STANDARD
BEGIN:DAYLIGHT
TZOFFSETFROM:+0100
TZOFFSETTO:+0200
TZNAME:CEST
DTSTART:20270328T010000
END:DAYLIGHT
BEGIN:STANDARD
TZOFFSETFROM:+0200
TZOFFSETTO:+0100
TZNAME:CET
DTSTART:20271031T010000
END:STANDARD
END:VTIMEZONE
BEGIN:VEVENT
DTSTART;TZID=Europe/Paris:20260207T150000
DTEND;TZID=Europe/Paris:20260207T180000
DTSTAMP:20260419T215927
CREATED:20251211T101821Z
LAST-MODIFIED:20260108T212715Z
UID:1989-1770476400-1770487200@bel-etage.com
SUMMARY:Flohmarkt tanguer@ bel étage No. 1
DESCRIPTION:Samstag 07.02.2026\n\n \nSchöne Tangoschuhe im Keller\, die gerade etwas einstauben? \nDu brauchst Platz in deinem Tango-Kleiderschrank? \nReserviere deinen Stand und gib dem Tangozeug (unisex) eine zweite Tanda! \n \nBeste Kaffeezeit – die Bar wird für euch geöffnet sein\, auch mit Süßem und anderen Getränken. \n \nPaula und Rita freuen sich auf euch! \n \nAnmeldung für deinen Stand: kontakt@bel-etage.com \n \n15-18 Uhr \nAufbau 14-15 Uhr \nTisch-Größe      Preis \n55×55 cm          10 € \n60x60cm (hoch)    12 € \n35×48 cm           6 € \n57×105 cm         20 € \n40×86 cm          15 € \n60 cm rund (hoch) 10 € \n44 cm rund         6 €
URL:https://bel-etage.com/veranstaltung/flohmarkt-tanguer-bel-etage-no-1/
LOCATION:bel étage\, Stresemannstraße 54 (Hinterhof)\, Bremen\, 28207\, Germany
CATEGORIES:Milonga
ATTACH;FMTTYPE=image/jpeg:https://bel-etage.com/wp-content/uploads/2025/12/Pau-u-Rita-Flohmarkt.jpeg
ORGANIZER;CN="bel %C3%A9tage":MAILTO:kontakt@bel-etage.com
END:VEVENT
END:VCALENDAR