BEGIN:VCALENDAR
VERSION:2.0
PRODID:-//bel &eacute;tage - ECPv6.15.20//NONSGML v1.0//EN
CALSCALE:GREGORIAN
METHOD:PUBLISH
X-WR-CALNAME:bel &eacute;tage
X-ORIGINAL-URL:https://bel-etage.com
X-WR-CALDESC:Veranstaltungen für bel &eacute;tage
REFRESH-INTERVAL;VALUE=DURATION:PT1H
X-Robots-Tag:noindex
X-PUBLISHED-TTL:PT1H
BEGIN:VTIMEZONE
TZID:UTC
BEGIN:STANDARD
TZOFFSETFROM:+0000
TZOFFSETTO:+0000
TZNAME:UTC
DTSTART:20250101T000000
END:STANDARD
END:VTIMEZONE
BEGIN:VEVENT
DTSTART;TZID=UTC:20260109T200000
DTEND;TZID=UTC:20260109T235900
DTSTAMP:20260420T132435
CREATED:20251120T075611Z
LAST-MODIFIED:20260109T164448Z
UID:1932-1767988800-1768003140@bel-etage.com
SUMMARY:09.01.2026 Milonga abgesagt
DESCRIPTION:Liebe Milongueras und Milongueros\, \n\n\n\nleider müssen wir die Milonga heute Abend\, 09.01.\, wegen des schlechten Wetters und des starken Schneefalls absagen. \n\n\n\nEure Sicherheit liegt uns sehr am Herzen. \n\n\n\nWir freuen uns darauf\, euch am 16.01. bei der nächsten Milonga mit DJ \n\n\n\nLiebe Milongueras und Milongueros\, \n\n\n\nleider müssen wir die Milonga heute Abend\, 09.01.\, wegen des schlechten Wetters und des starken Schneefalls absagen. \n\n\n\nEure Sicherheit liegt uns sehr am Herzen. \n\n\n\nWir freuen uns darauf\, euch am 16.01. bei der nächsten Milonga mit DJ Nick wiederzusehen. \n\n\n\nBleibt gesund und kommt gut durch die winterlichen Tage. \n\n\n\nHerzliche Grüße \n\n\n\nFrau Hriba & Roco
URL:https://bel-etage.com/veranstaltung/milonga-lust-auf-tango-13/
LOCATION:bel étage\, Stresemannstraße 54 (Hinterhof)\, Bremen\, 28207\, Germany
CATEGORIES:Milonga
ATTACH;FMTTYPE=image/jpeg:https://bel-etage.com/wp-content/uploads/2025/11/2026-01-09-17.30.44.jpg
ORGANIZER;CN="bel %C3%A9tage":MAILTO:kontakt@bel-etage.com
END:VEVENT
END:VCALENDAR