BEGIN:VCALENDAR
VERSION:2.0
PRODID:-//bel &eacute;tage - ECPv6.15.20//NONSGML v1.0//EN
CALSCALE:GREGORIAN
METHOD:PUBLISH
X-ORIGINAL-URL:https://bel-etage.com
X-WR-CALDESC:Veranstaltungen für bel &eacute;tage
REFRESH-INTERVAL;VALUE=DURATION:PT1H
X-Robots-Tag:noindex
X-PUBLISHED-TTL:PT1H
BEGIN:VTIMEZONE
TZID:UTC
BEGIN:STANDARD
TZOFFSETFROM:+0000
TZOFFSETTO:+0000
TZNAME:UTC
DTSTART:20240101T000000
END:STANDARD
END:VTIMEZONE
BEGIN:VEVENT
DTSTART;TZID=UTC:20251205T200000
DTEND;TZID=UTC:20251205T235900
DTSTAMP:20260420T145428
CREATED:20251015T194849Z
LAST-MODIFIED:20251015T194849Z
UID:1864-1764964800-1764979140@bel-etage.com
SUMMARY:Milonga  –  Libertango  y  amig@s  mit  Gastgebern  &  Dj´s  Catalina y Thomas
DESCRIPTION:Ein Abend voller Stil und Leidenschaft!
URL:https://bel-etage.com/veranstaltung/milonga-libertango-y-amigs-mit-gastgebern-djs-catalina-y-thomas-3/
LOCATION:bel étage\, Stresemannstraße 54 (Hinterhof)\, Bremen\, 28207\, Germany
CATEGORIES:Milonga
ATTACH;FMTTYPE=image/jpeg:https://bel-etage.com/wp-content/uploads/2025/10/565103442_25039607982336524_3412975100561538027_n.jpg
END:VEVENT
END:VCALENDAR