BEGIN:VCALENDAR
VERSION:2.0
PRODID:-//bel &eacute;tage - ECPv6.15.20//NONSGML v1.0//EN
CALSCALE:GREGORIAN
METHOD:PUBLISH
X-ORIGINAL-URL:https://bel-etage.com
X-WR-CALDESC:Veranstaltungen für bel &eacute;tage
REFRESH-INTERVAL;VALUE=DURATION:PT1H
X-Robots-Tag:noindex
X-PUBLISHED-TTL:PT1H
BEGIN:VTIMEZONE
TZID:UTC
BEGIN:STANDARD
TZOFFSETFROM:+0000
TZOFFSETTO:+0000
TZNAME:UTC
DTSTART:20240101T000000
END:STANDARD
END:VTIMEZONE
BEGIN:VEVENT
DTSTART;TZID=UTC:20251031T200000
DTEND;TZID=UTC:20251031T235900
DTSTAMP:20260420T173357
CREATED:20251015T175055Z
LAST-MODIFIED:20251015T175055Z
UID:1849-1761940800-1761955140@bel-etage.com
SUMMARY:Milonga – Lust auf Tango
DESCRIPTION:Dj.: Roco\,\nGastgeberin: Frau Hriba
URL:https://bel-etage.com/veranstaltung/milonga-lust-auf-tango-5/
LOCATION:bel étage\, Stresemannstraße 54 (Hinterhof)\, Bremen\, 28207\, Germany
CATEGORIES:Milonga
ATTACH;FMTTYPE=image/jpeg:https://bel-etage.com/wp-content/uploads/2025/06/Foto-shooting-7.9.-1-von-1-71-scaled.jpg
ORGANIZER;CN="bel %C3%A9tage":MAILTO:kontakt@bel-etage.com
END:VEVENT
END:VCALENDAR