BEGIN:VCALENDAR
VERSION:2.0
PRODID:-//bel &eacute;tage - ECPv6.15.20//NONSGML v1.0//EN
CALSCALE:GREGORIAN
METHOD:PUBLISH
X-WR-CALNAME:bel &eacute;tage
X-ORIGINAL-URL:https://bel-etage.com
X-WR-CALDESC:Veranstaltungen für bel &eacute;tage
REFRESH-INTERVAL;VALUE=DURATION:PT1H
X-Robots-Tag:noindex
X-PUBLISHED-TTL:PT1H
BEGIN:VTIMEZONE
TZID:UTC
BEGIN:STANDARD
TZOFFSETFROM:+0000
TZOFFSETTO:+0000
TZNAME:UTC
DTSTART:20240101T000000
END:STANDARD
END:VTIMEZONE
BEGIN:VEVENT
DTSTART;TZID=UTC:20251025T193000
DTEND;TZID=UTC:20251025T230000
DTSTAMP:20260420T172945
CREATED:20250925T221010Z
LAST-MODIFIED:20251023T130121Z
UID:1823-1761420600-1761433200@bel-etage.com
SUMMARY:Milonga – La Noche Cultural
DESCRIPTION:  \n Samstag\, 25.10. – Wir freuen uns auf die 1. Noche Cultural \n19.30 – ca. 23 Uhr \nEin künstlerischer bunter Abend mit… \n… Musik (Tango und mehr) zum Hören Sehen Tanzen. Live mit Facundo Ortega\, Duo Fain-Perkal sowie Cinnamon Moon \n… Bildhauerin Rosa Jaisli \n… Cortinas contadas (erzählende Zwischenstücke) von Diana Schulmeister und Ernesto Salazar-Jiménez \n… Poesie und Tanz (Analia Vega\, Marcelo Varela\, Steffi Bauerkämper) \n… Chacarera \n… kleinen Knabbereien \nLasst euch überraschen!!! \nLa gran noche cultural de DosO. \n \n 
URL:https://bel-etage.com/veranstaltung/milonga-la-noche-cultural/
LOCATION:bel étage\, Stresemannstraße 54 (Hinterhof)\, Bremen\, 28207\, Germany
CATEGORIES:Milonga
ATTACH;FMTTYPE=image/jpeg:https://bel-etage.com/wp-content/uploads/2025/09/568533113_1427049262762341_4524013778001095875_n.jpg
ORGANIZER;CN="bel %C3%A9tage":MAILTO:kontakt@bel-etage.com
END:VEVENT
END:VCALENDAR